BEGIN:VCALENDAR
VERSION:2.0
PRODID:KKTIX
CALSCALE:GREGORIAN
METHOD:PUBLISH
BEGIN:VTIMEZONE
TZID:Asia/Taipei
END:VTIMEZONE
BEGIN:VEVENT
DTSTAMP:20260423T155536Z
UID:e09e9b2d-c6c9-4236-8fb9-9565db184246
DTSTART:20260626T120000Z
DTEND:20260626T120000Z
CLASS:PUBLIC
DESCRIPTION:https://yuka.kktix.cc/events/ac8e6ece
LOCATION: (新北市新莊區新北大道四段3號8樓) Zepp New Taipei
SUMMARY:【台北場】Shing02 × OMA × Spin Master A-1 LUV (SIC) HEXALOGY
 ：2026 Asia Tour
END:VEVENT
END:VCALENDAR
