BEGIN:VCALENDAR
VERSION:2.0
PRODID:KKTIX
CALSCALE:GREGORIAN
METHOD:PUBLISH
BEGIN:VTIMEZONE
TZID:Asia/Taipei
END:VTIMEZONE
BEGIN:VEVENT
DTSTAMP:20260423T155536Z
UID:3db8e193-b53a-4947-b38b-535bfa1597bd
DTSTART:20260628T110000Z
DTEND:20260628T110000Z
CLASS:PUBLIC
DESCRIPTION:https://yuka.kktix.cc/events/b97e2675
LOCATION: (高雄市苓雅區海邊路15-3號) 高雄後台 Backstage Live
SUMMARY:【高雄場】Shing02 × OMA × Spin Master A-1 LUV (SIC) HEXALOGY
 ：2026 Asia Tour
END:VEVENT
END:VCALENDAR
